BEGIN:VCALENDAR
VERSION:2.0
PRODID:-//Shirley Lynn Martin - ECPv6.6.2//NONSGML v1.0//EN
CALSCALE:GREGORIAN
METHOD:PUBLISH
X-WR-CALNAME:Shirley Lynn Martin
X-ORIGINAL-URL:https://shirleylynnmartin.com
X-WR-CALDESC:Events for Shirley Lynn Martin
REFRESH-INTERVAL;VALUE=DURATION:PT1H
X-Robots-Tag:noindex
X-PUBLISHED-TTL:PT1H
BEGIN:VTIMEZONE
TZID:America/New_York
BEGIN:DAYLIGHT
TZOFFSETFROM:-0500
TZOFFSETTO:-0400
TZNAME:EDT
DTSTART:20120311T070000
END:DAYLIGHT
BEGIN:STANDARD
TZOFFSETFROM:-0400
TZOFFSETTO:-0500
TZNAME:EST
DTSTART:20121104T060000
END:STANDARD
BEGIN:DAYLIGHT
TZOFFSETFROM:-0500
TZOFFSETTO:-0400
TZNAME:EDT
DTSTART:20130310T070000
END:DAYLIGHT
BEGIN:STANDARD
TZOFFSETFROM:-0400
TZOFFSETTO:-0500
TZNAME:EST
DTSTART:20131103T060000
END:STANDARD
BEGIN:DAYLIGHT
TZOFFSETFROM:-0500
TZOFFSETTO:-0400
TZNAME:EDT
DTSTART:20140309T070000
END:DAYLIGHT
BEGIN:STANDARD
TZOFFSETFROM:-0400
TZOFFSETTO:-0500
TZNAME:EST
DTSTART:20141102T060000
END:STANDARD
BEGIN:DAYLIGHT
TZOFFSETFROM:-0500
TZOFFSETTO:-0400
TZNAME:EDT
DTSTART:20150308T070000
END:DAYLIGHT
BEGIN:STANDARD
TZOFFSETFROM:-0400
TZOFFSETTO:-0500
TZNAME:EST
DTSTART:20151101T060000
END:STANDARD
BEGIN:DAYLIGHT
TZOFFSETFROM:-0500
TZOFFSETTO:-0400
TZNAME:EDT
DTSTART:20160313T070000
END:DAYLIGHT
BEGIN:STANDARD
TZOFFSETFROM:-0400
TZOFFSETTO:-0500
TZNAME:EST
DTSTART:20161106T060000
END:STANDARD
END:VTIMEZONE
BEGIN:VEVENT
DTSTART;TZID=America/New_York:20160219T160000
DTEND;TZID=America/New_York:20160221T140000
DTSTAMP:20260421T200213
CREATED:20151124T171933Z
LAST-MODIFIED:20160118T163650Z
UID:3934-1455897600-1456063200@shirleylynnmartin.com
SUMMARY:Weekend Reiki Retreat
DESCRIPTION:Moving into Reiki Freedom\n\nCompassionate joining with people produces a creative environment in which you and the people you join enjoy a multitude of freedoms  – Whitney & Trosten-Bloon\, Appreciative Inquiry \n\nIt has been said that we start to really let go of our sense of responsibility and stress once we get about 2 hours from home. It is at that point we realize there is nothing we can do about ‘what’s at home’ – which then frees us to let go and engage in what we are doing. \nYOU ARE INVITED to a weekend Reiki retreat at the idyllic Lotus Heart Centre. Immerse your heart and whole being into Reiki and into that experience of inner peace\, relaxation and simultaneous aliveness for an entire weekend. Surround yourself with a community who shares your passion and commitment to the Reiki path. Enjoy walking on nearby hiking trails. Envision yourself with a cup of tea by the fireplace. \nReiki practice includes hands on Reiki treatments\, meditation\, self-purification and serving in community. We will enjoy all these Reiki practices. Spend time individually as well as in group activities reflecting on what it means to experience freedom within Reiki. \nThe Freedoms we will be exploring this weekend include: \n\nfreedom to be you\nfreedom to say YES! And NO!\nfreedom to think and learn\nfreedom to dream\nfreedom to act\nfreedom to free and be free\nfreedom to love\n\nFreedom is the experience of oneness\, of non-duality\, of remembering we are infinite love. It is seeing life as it is\, with all its inherent pain\, imbalances and suffering. Infinite Freedom resolves our thinking that we are separate and forgotten individuals. Without Freedom\, we find ourselves struggling with anxiety\, doubt\, worry\, with confusion of purpose and direction\, and lost to love and the creation of a joyful sense of being. \nTake this opportunity to step out of the hustle and bustle of daily life and open yourself to the insights and rejuvenation you’ll experience and take home with you. You will be so glad you did. Sign up today! \nFriday\, February 19th (after 4pm) – Sunday\, February 21st (2pm)\, 2016 \nLotus Heart Centre\, Brighton\, ON \nCost: $265.00 + HST (Includes lodging\, meals and retreat program) \n* Open to all levels and lineages of Reiki attunement  – Reiki students and teachers* \nPlease Register before Thursday\, February 4th\, 2016 \nPlease specify any allergies or dietary restrictions when you register \nContact Shirley Lynn for additional information or to register: \nshirley@shirleylynnmartin.com or 519-886-6732 \n\n\nFreedom and constraint are two aspects of the same necessity\, the necessity of being the person you are and not another. You are free to be that person\, but not another. -Antoine de Saint-Exupery
URL:https://shirleylynnmartin.com/event/weekend-reiki-retreat
LOCATION:Lotus Heart Centre\, 448 Old Wooler Road\, Brighton\, Ontario\, Canada
CATEGORIES:Retreats
END:VEVENT
BEGIN:VEVENT
DTSTART;TZID=America/New_York:20130706T093000
DTEND;TZID=America/New_York:20130706T160000
DTSTAMP:20260421T200213
CREATED:20130523T183138Z
LAST-MODIFIED:20130523T183138Z
UID:2345-1373103000-1373126400@shirleylynnmartin.com
SUMMARY:Summer Reiki Retreat
DESCRIPTION:Weaving the Centre of our Heart into Reiki: Abundance\, Creativity & Self-Love as an Empath\nFor ALL Reiki students (‘new’ and ‘old’\, at all levels of training)\nSaturday July 6th\, 2013\n9:30 am to 4:00 pm\nThis Reiki Retreat is an opportunity to weave together the threads of our conversations and our ‘art’ over the past year about ourselves as empaths\, our creativity and the abundance mindset that supports us in living a Reiki path of health and happiness. \nCome and join us for a day of \n\nReiki healing\nSelf transformation and opening to abundance\nFriendship building\nCommunity celebration\nand Blessing\n\nWe will begin the day with healing time. And we will continue our tradition of a Community Potluck lunch. Bring your culinary works of art to share and enjoy! \nCost for the day: $85.00 (+HST)\nDress comfortably. We will be spending some time outside if weather permits. \nFor more information and to register\, contact Shirley Lynn at 519-886-6732 or shirley@shirleylynnmartin.com. Please reserve early to facilitate planning. See you there!
URL:https://shirleylynnmartin.com/event/summer-reiki-retreat
LOCATION:Ontario
CATEGORIES:Retreats
END:VEVENT
BEGIN:VEVENT
DTSTART;TZID=America/New_York:20121201T093000
DTEND;TZID=America/New_York:20121201T163059
DTSTAMP:20260421T200213
CREATED:20120816T040055Z
LAST-MODIFIED:20121121T202905Z
UID:813-1354354200-1354379459@shirleylynnmartin.com
SUMMARY:Reiki Ryoho Retreat
DESCRIPTION:Reiki as Creative Expression for the Sensitive Heart\nSaturday\, December 1st\, 2012\n9:30 am to 4:30 pm \nI am so excited about what is happening and unfolding for people and participants who have studied Reiki with me. We all know we are ‘sensitive’. Reiki is a heart path and so if we weren’t sensitive before\, we are now! Most of us have always been sensitive\, so learning Reiki was a natural step\, even if we didn’t initially know why. What I have come to understand is that as highly sensitive souls\, we also have a common passion for beauty\, art\, and aesthetics. \nIn our June 2012 retreat we began our exploration and honouring of our sensitivity. This time we will continue that journey and will also connect it with our creativity. So even if you weren’t there in June\, you will want to come. We will be exploring the different ways we channel Reiki and the creative expressions that Reiki is highlighting within us. \nWe will then go forward with our Reiki ways of sensitivity and creativity for the next 6 months and during our June 2013 Retreat we will celebrate and bless all our creative endeavours inspired by our Reiki path. \nWhat you will take with you from this retreat: \n\nThat the way you  feel and experience life is not imagined but real\, and that your sensitivity is not a curse\, but a blessing\, because it feeds your creativity\nThe connection between chakras\, creativity and sensitivity (learn the corresponding chakra to our creative centre)\nBuild and enjoy community and delicious feast to the taste buds\nReiju and Reiki meditation to strengthen your inner Reiki and life destiny as a sensitive heart\n\n\n PLUS… Reiju\, Reiki treatments with partners\, great food\, laughter and more!\nPotluck Lunch\nBring a dish for the festivities of a Holiday Potluck to share with others. Please let me know what you are bringing so an array of exquisite dishes can grace our community table. \nCost: $85.00 plus HST \n\n \n\n\n\nReiki Retreat\n\n\nNon-Refundable Registration Deposit$30.00 CADAdditional Registration$55.00 CAD
URL:https://shirleylynnmartin.com/event/reiki-ryoho-retreat-summer-2012
LOCATION:Ontario
CATEGORIES:Retreats
END:VEVENT
END:VCALENDAR